BEGIN:VCALENDAR
VERSION:2.0
PRODID:-//Sabre//Sabre VObject 4.5.8//EN
CALSCALE:GREGORIAN
BEGIN:VTIMEZONE
TZID:Europe/Zurich
X-LIC-LOCATION:Europe/Zurich
TZURL:http://tzurl.org/zoneinfo/Europe/Zurich
BEGIN:DAYLIGHT
TZOFFSETFROM:+0100
TZOFFSETTO:+0200
TZNAME:CEST
DTSTART:19810329T020000
RRULE:FREQ=YEARLY;BYMONTH=3;BYDAY=-1SU
END:DAYLIGHT
BEGIN:STANDARD
TZOFFSETFROM:+0200
TZOFFSETTO:+0100
TZNAME:CET
DTSTART:19961027T030000
RRULE:FREQ=YEARLY;BYMONTH=10;BYDAY=-1SU
END:STANDARD
END:VTIMEZONE
BEGIN:VEVENT
UID:news1378@ub-easyweb.ub.unibas.ch
DTSTAMP;TZID=Europe/Zurich:20260417T115517
DTSTART;TZID=Europe/Zurich:20260527T121500
SUMMARY:Einführungskurs Literaturverwaltung: Zotero (Online)
DESCRIPTION:Kursinhalte:1. Installation:Installation von Zotero Installati
 on eines Plug-ins für Textverarbeitungsprogramme2. Literatur erfassenÜbe
 rnahme von Literaturangaben und anderen Medienarten aus Katalogen\, Datenb
 anken und aus dem Internet\\r\\n3. OrganisierenAnlegen von SammlungenNotiz
 funktionTags\\r\\n4. Annotations- und Notizfunktion im integrierten pdf-Re
 ader und direkte Übernahme der Notizen in den Text 5. Schreiben von Text
 enEinfügen von Zitaten und Erstellen der zugehörigen Literaturliste in v
 erschiedenen Zitierstilen  [https://fortbildung.unibas.ch/fortbildungsang
 ebote/themenbereiche/computer-und-webanwendungen/zotero-303083]\\r\\nInfor
 mationen und Anmeldung [https://fortbildung.unibas.ch/fortbildungsangebote
 /themenbereiche/computer-und-webanwendungen/zotero-303083]\\r\\n*** Möcht
 en Sie über unser kulturelles Veranstaltungsprogramm informiert werden? D
 ann registrieren Sie sich für unseren Newsletter [t3://page?uid=2912]!
X-ALT-DESC:<p><strong>Kursinhalte:</strong><br /><br />1. Installation:<br 
 />Installation von Zotero&nbsp\;<br />Installation eines Plug-ins für Tex
 tverarbeitungsprogramme<br /><br />2. Literatur erfassen<br />Übernahme v
 on Literaturangaben und anderen Medienarten aus Katalogen\, Datenbanken un
 d aus dem Internet</p>\n<p>3. Organisieren<br />Anlegen von Sammlungen<br 
 />Notizfunktion<br />Tags</p>\n<p>4. Annotations- und Notizfunktion im int
 egrierten pdf-Reader und direkte Übernahme der Notizen in den Text<br />&
 nbsp\;<br />5. Schreiben von Texten<br />Einfügen von Zitaten und Erstell
 en der zugehörigen Literaturliste in verschiedenen Zitierstilen<br /><br 
 /><a href="https://fortbildung.unibas.ch/fortbildungsangebote/themenbereic
 he/computer-und-webanwendungen/zotero-303083">&nbsp\;</a></p>\n<p><a href=
 "https://fortbildung.unibas.ch/fortbildungsangebote/themenbereiche/compute
 r-und-webanwendungen/zotero-303083">Informationen und Anmeldung</a></p>\n<
 p><br />*** Möchten Sie über unser kulturelles Veranstaltungsprogramm in
 formiert werden? Dann registrieren Sie sich für unseren <a href="t3://pag
 e?uid=2912">Newsletter</a>!</p>
DTEND;TZID=Europe/Zurich:20260527T134500
END:VEVENT
END:VCALENDAR
