BEGIN:VCALENDAR
VERSION:2.0
PRODID:-//Sabre//Sabre VObject 4.5.8//EN
CALSCALE:GREGORIAN
BEGIN:VTIMEZONE
TZID:Europe/Zurich
X-LIC-LOCATION:Europe/Zurich
TZURL:http://tzurl.org/zoneinfo/Europe/Zurich
BEGIN:DAYLIGHT
TZOFFSETFROM:+0100
TZOFFSETTO:+0200
TZNAME:CEST
DTSTART:19810329T020000
RRULE:FREQ=YEARLY;BYMONTH=3;BYDAY=-1SU
END:DAYLIGHT
BEGIN:STANDARD
TZOFFSETFROM:+0200
TZOFFSETTO:+0100
TZNAME:CET
DTSTART:19961027T030000
RRULE:FREQ=YEARLY;BYMONTH=10;BYDAY=-1SU
END:STANDARD
END:VTIMEZONE
BEGIN:VEVENT
UID:news1017@ub-easyweb.ub.unibas.ch
DTSTAMP;TZID=Europe/Zurich:20260320T134135
DTSTART;TZID=Europe/Zurich:20260506T123000
SUMMARY:Using the Read & Publish contracts of the University of Basel to pu
 blish cost-free
DESCRIPTION:OverviewThis coffee lecture explains how researchers at the Uni
 versity of Basel can use existing Read and Publish agreements to publish O
 pen Access without individual article processing charges. It provides a pr
 actical overview of how these contracts work\, which publishers are covere
 d\, eligibility criteria\, common pitfalls\, and how to ensure correct aff
 iliation and submission workflows. The session aims to enable researchers 
 to strategically use institutional agreements\, increase the visibility of
  their work\, and avoid unnecessary publication costs.\\r\\nTarget groupAn
 yone interested in the topic\\r\\nLecturerDr. Yannick Städler\, Informati
 on specialist medicine\, environmental sciences\\r\\n\\r\\nRegister here\\
 r\\nOverview Coffee Lectures Health & Science in the Spring Semester 2026
X-ALT-DESC:<p><strong>Overview</strong><br />This coffee lecture explains h
 ow researchers at the University of Basel can use existing Read and Publis
 h agreements to publish Open Access without individual article processing 
 charges. It provides a practical overview of how these contracts work\, wh
 ich publishers are covered\, eligibility criteria\, common pitfalls\, and 
 how to ensure correct affiliation and submission workflows. The session ai
 ms to enable researchers to strategically use institutional agreements\, i
 ncrease the visibility of their work\, and avoid unnecessary publication c
 osts.</p>\n<p><strong>Target group</strong><br />Anyone interested in the 
 topic</p>\n<p><strong>Lecturer</strong><br />Dr. Yannick Städler\, Inform
 ation specialist medicine\, environmental sciences</p>\n\n<p><a href="http
 s://www.eventbrite.ch/e/1985048046142?aff=oddtdtcreator" target="_blank"><
 strong>Register here</strong></a></p>\n<p><a href="https://www.eventbrite.
 com/cc/coffee-lectures-health-science-fsss-2026-4825084?utm-campaign=socia
 l&amp\;utm-content=creatorshare&amp\;utm-medium=discovery&amp\;utm-term=od
 clsxcollection&amp\;utm-source=cp&amp\;aff=escb"><strong>Overview Coffee L
 ectures Health &amp\; Science in the Spring Semester 2026</strong></a></p>
 \n\n
DTEND;TZID=Europe/Zurich:20260506T124500
END:VEVENT
END:VCALENDAR
