BEGIN:VCALENDAR
VERSION:2.0
PRODID:-//Sabre//Sabre VObject 4.5.8//EN
CALSCALE:GREGORIAN
BEGIN:VTIMEZONE
TZID:Europe/Zurich
X-LIC-LOCATION:Europe/Zurich
TZURL:http://tzurl.org/zoneinfo/Europe/Zurich
BEGIN:DAYLIGHT
TZOFFSETFROM:+0100
TZOFFSETTO:+0200
TZNAME:CEST
DTSTART:19810329T020000
RRULE:FREQ=YEARLY;BYMONTH=3;BYDAY=-1SU
END:DAYLIGHT
BEGIN:STANDARD
TZOFFSETFROM:+0200
TZOFFSETTO:+0100
TZNAME:CET
DTSTART:19961027T030000
RRULE:FREQ=YEARLY;BYMONTH=10;BYDAY=-1SU
END:STANDARD
END:VTIMEZONE
BEGIN:VEVENT
UID:news1021@ub-easyweb.ub.unibas.ch
DTSTAMP;TZID=Europe/Zurich:20260320T133551
DTSTART;TZID=Europe/Zurich:20260603T123000
SUMMARY:Why write a literature review if AI can do it for you? Pros and con
 s of AI-generated literature reviews
DESCRIPTION:OverviewThe rise of artificial intelligence has transformed aca
 demic research\, providing tools that can draft literature reviews in minu
 tes. However\, automating reviews beyond the drafting stage is more comple
 x and more controversial. Can and should AI replace human work in literatu
 re reviews\, or is it best suited as a supporting tool? How much human ove
 rsight is required? Will AI help us develop new types and formats of revie
 ws? Various aspects of this current discussion will be explored.\\r\\nTarg
 et groupAnyone interested in the topic\\r\\nLecturerDr. Nuria Plattner\, I
 nformation specialist natural sciences\\r\\n\\r\\nRegister here\\r\\nOverv
 iew Coffee Lectures Health & Science in the Spring Semester 2026
X-ALT-DESC:<p><strong>Overview</strong><br />The rise of artificial intelli
 gence has transformed academic research\, providing tools that can draft l
 iterature reviews in minutes. However\, automating reviews beyond the draf
 ting stage is more complex and more controversial. Can and should AI repla
 ce human work in literature reviews\, or is it best suited as a supporting
  tool? How much human oversight is required? Will AI help us develop new t
 ypes and formats of reviews? Various aspects of this current discussion wi
 ll be explored.</p>\n<p><strong>Target group</strong><br />Anyone interest
 ed in the topic</p>\n<p><strong>Lecturer</strong><br />Dr. Nuria Plattner\
 , Information specialist natural sciences</p>\n\n<p><a href="https://www.e
 ventbrite.ch/e/1985070059986?aff=oddtdtcreator" target="_blank"><strong>Re
 gister here</strong></a></p>\n<p><a href="https://www.eventbrite.com/cc/co
 ffee-lectures-health-science-fsss-2026-4825084?utm-campaign=social&amp\;ut
 m-content=creatorshare&amp\;utm-medium=discovery&amp\;utm-term=odclsxcolle
 ction&amp\;utm-source=cp&amp\;aff=escb" target="_blank"><strong>Overview C
 offee Lectures Health &amp\; Science in the Spring Semester 2026</strong><
 /a></p>\n\n\n
DTEND;TZID=Europe/Zurich:20260603T124500
END:VEVENT
END:VCALENDAR
