BEGIN:VCALENDAR
VERSION:2.0
PRODID:-//Sabre//Sabre VObject 4.5.8//EN
CALSCALE:GREGORIAN
BEGIN:VTIMEZONE
TZID:Europe/Zurich
X-LIC-LOCATION:Europe/Zurich
TZURL:http://tzurl.org/zoneinfo/Europe/Zurich
BEGIN:DAYLIGHT
TZOFFSETFROM:+0100
TZOFFSETTO:+0200
TZNAME:CEST
DTSTART:19810329T020000
RRULE:FREQ=YEARLY;BYMONTH=3;BYDAY=-1SU
END:DAYLIGHT
BEGIN:STANDARD
TZOFFSETFROM:+0200
TZOFFSETTO:+0100
TZNAME:CET
DTSTART:19961027T030000
RRULE:FREQ=YEARLY;BYMONTH=10;BYDAY=-1SU
END:STANDARD
END:VTIMEZONE
BEGIN:VEVENT
UID:news1265@ub-easyweb.ub.unibas.ch
DTSTAMP;TZID=Europe/Zurich:20260424T145934
DTSTART;TZID=Europe/Zurich:20260603T180000
SUMMARY:Bücher aus 555 Jahren und Geschichten aus dem Leben und Wirken mei
 ner Vorgänger
DESCRIPTION:Die erste schriftliche Bezeugung der UB stammt aus dem Jahr 147
 1\, so dass die UB 2026 ihren 555. Geburtstag feiern kann. Alice Keller f
 ührt in ihrem Vortrag durch diese Geschichte anhand einer «Ahnengalerie
 » früherer Oberbibliothekare und Bibliotheksdirektor*innen und erzählt 
 ausgewählte Anekdoten aus dem Leben und Wirken ihrer Vorgänger*innen. \
 \r\\nParallel dazu präsentiert Noah Regenass die Geschichte der UB erstma
 ls in Form eines wandfüllenden Zeitstrahls\, der auch auf Werke hinweist\
 , die in den letzten 555 Jahren erschienen sind und heute im Bestand der U
 B zu finden sind.Treffpunkt: 18:00 Uhr\, UB Hauptbibliothek\, Vortragssaal
  (1. Stock)\\r\\nDauer: 75 Minuten\\r\\nDer Eintritt ist kostenlos\, keine
  Anmeldung erforderlich.\\r\\n\\r\\n*** Möchten Sie über unser Veranstal
 tungsprogramm informiert werden? Dann registrieren Sie sich für unseren N
 ewsletter [t3://page?uid=2912]! ***
X-ALT-DESC:<p>Die erste schriftliche Bezeugung der UB stammt aus dem Jahr 1
 471\, so dass die UB 2026 ihren 555. Geburtstag feiern kann. Alice Keller 
 führt in ihrem Vortrag durch diese Geschichte anhand einer «Ahnengalerie
 » früherer Oberbibliothekare und Bibliotheksdirektor*innen und erzählt 
 ausgewählte Anekdoten aus dem Leben und Wirken ihrer Vorgänger*innen.&nb
 sp\;</p>\n<p>Parallel dazu präsentiert Noah Regenass die Geschichte der U
 B erstmals in Form eines wandfüllenden Zeitstrahls\, der auch auf Werke h
 inweist\, die in den letzten 555 Jahren erschienen sind und heute im Besta
 nd der UB zu finden sind.<br /><br />Treffpunkt: 18:00 Uhr\, UB Hauptbibli
 othek\, Vortragssaal (1. Stock)</p>\n<p>Dauer: 75 Minuten</p>\n<p>Der Eint
 ritt ist kostenlos\, keine Anmeldung erforderlich.</p>\n\n<p>*** Möchten 
 Sie über unser Veranstaltungsprogramm informiert werden? Dann registriere
 n Sie sich für unseren <a href="t3://page?uid=2912">Newsletter</a>! ***</
 p>
DTEND;TZID=Europe/Zurich:20260603T191500
END:VEVENT
END:VCALENDAR
