BEGIN:VCALENDAR
VERSION:2.0
PRODID:-//Sabre//Sabre VObject 4.5.8//EN
CALSCALE:GREGORIAN
BEGIN:VTIMEZONE
TZID:Europe/Zurich
X-LIC-LOCATION:Europe/Zurich
TZURL:http://tzurl.org/zoneinfo/Europe/Zurich
BEGIN:DAYLIGHT
TZOFFSETFROM:+0100
TZOFFSETTO:+0200
TZNAME:CEST
DTSTART:19810329T020000
RRULE:FREQ=YEARLY;BYMONTH=3;BYDAY=-1SU
END:DAYLIGHT
BEGIN:STANDARD
TZOFFSETFROM:+0200
TZOFFSETTO:+0100
TZNAME:CET
DTSTART:19961027T030000
RRULE:FREQ=YEARLY;BYMONTH=10;BYDAY=-1SU
END:STANDARD
END:VTIMEZONE
BEGIN:VEVENT
UID:news1380@ub-easyweb.ub.unibas.ch
DTSTAMP;TZID=Europe/Zurich:20260424T150313
DTSTART;TZID=Europe/Zurich:20260826T180000
SUMMARY:«(…) wir dürfen noch nicht an die Heimholung unseres Fluchtgute
 s denken». Die UB Basel im Zweiten Weltkrieg.
DESCRIPTION:In der Nacht vom 16. auf den 17. Dezember 1940 wurde Basel unve
 rmittelt Teil des Kriegsgeschehens: Die Royal Air Force bombardierte das S
 BB-Areal im Gundeldingerquartier\, vier Menschen starben. Der Angriff zeig
 te\, wie verletzlich auch die neutrale Schweiz und insbesondere die Grenzs
 tadt Basel war. Für Karl Schwarber\, Leiter der Universitätsbibliothek B
 asel\, stellte sich bereits in den dreissiger Jahren die Frage: Wie lassen
  sich Bücher vor Bomben\, Plünderung und ideologisch motivierter Zerstö
 rung der Nazis schützen? Und wie konnte der Betrieb aufrechterhalten werd
 en\, wenn ein Grossteil der Belegschaft im Aktivdienst stand? Der Themenab
 end beleuchtet\, wie die UB Basel zwischen 1938 und 1945 auf diese Gefahre
 n reagierte\, welche Schutzmassnahmen ergriffen wurden und wie der Bibliot
 heksalltag unter Kriegsbedingungen organisiert war – gestützt auf bisla
 ng unveröffentlichte Archivquellen.\\r\\nTreffpunkt: 18:00 Uhr\, UB Haupt
 bibliothek\, Vortragssaal (1. Stock)\\r\\nDauer: 75 Minuten\\r\\nDer Eintr
 itt ist kostenlos\, keine Anmeldung erforderlich.\\r\\n\\r\\n*** Möchten 
 Sie über unser Veranstaltungsprogramm informiert werden? Dann registriere
 n Sie sich für unseren Newsletter [t3://page?uid=2912]! ***
X-ALT-DESC:<p>In der Nacht vom 16. auf den 17. Dezember 1940 wurde Basel un
 vermittelt Teil des Kriegsgeschehens: Die Royal Air Force bombardierte das
  SBB-Areal im Gundeldingerquartier\, vier Menschen starben. Der Angriff ze
 igte\, wie verletzlich auch die neutrale Schweiz und insbesondere die Gren
 zstadt Basel war. Für Karl Schwarber\, Leiter der Universitätsbibliothek
  Basel\, stellte sich bereits in den dreissiger Jahren die Frage: Wie lass
 en sich Bücher vor Bomben\, Plünderung und ideologisch motivierter Zerst
 örung der Nazis schützen? Und wie konnte der Betrieb aufrechterhalten we
 rden\, wenn ein Grossteil der Belegschaft im Aktivdienst stand? Der Themen
 abend beleuchtet\, wie die UB Basel zwischen 1938 und 1945 auf diese Gefah
 ren reagierte\, welche Schutzmassnahmen ergriffen wurden und wie der Bibli
 otheksalltag unter Kriegsbedingungen organisiert war – gestützt auf bis
 lang unveröffentlichte Archivquellen.</p>\n<p>Treffpunkt: 18:00 Uhr\, UB 
 Hauptbibliothek\, Vortragssaal (1. Stock)</p>\n<p>Dauer: 75 Minuten</p>\n<
 p>Der Eintritt ist kostenlos\, keine Anmeldung erforderlich.</p>\n\n<p>***
  Möchten Sie über unser Veranstaltungsprogramm informiert werden? Dann r
 egistrieren Sie sich für unseren <a href="t3://page?uid=2912">Newsletter<
 /a>! ***</p>
DTEND;TZID=Europe/Zurich:20260826T191500
END:VEVENT
END:VCALENDAR
