BEGIN:VCALENDAR
VERSION:2.0
PRODID:-//Sabre//Sabre VObject 4.5.8//EN
CALSCALE:GREGORIAN
BEGIN:VTIMEZONE
TZID:Europe/Zurich
X-LIC-LOCATION:Europe/Zurich
TZURL:http://tzurl.org/zoneinfo/Europe/Zurich
BEGIN:DAYLIGHT
TZOFFSETFROM:+0100
TZOFFSETTO:+0200
TZNAME:CEST
DTSTART:19810329T020000
RRULE:FREQ=YEARLY;BYMONTH=3;BYDAY=-1SU
END:DAYLIGHT
BEGIN:STANDARD
TZOFFSETFROM:+0200
TZOFFSETTO:+0100
TZNAME:CET
DTSTART:19961027T030000
RRULE:FREQ=YEARLY;BYMONTH=10;BYDAY=-1SU
END:STANDARD
END:VTIMEZONE
BEGIN:VEVENT
UID:news1375@ub-easyweb.ub.unibas.ch
DTSTAMP;TZID=Europe/Zurich:20260420T095449
DTSTART;TZID=Europe/Zurich:20260608T170000
SUMMARY:Künstliche Intelligenz verstehen: Hilfe im Alltag oder Gefahr? - K
 urs für Senior*innen
DESCRIPTION:Was steckt hinter Künstlicher Intelligenz? Wo begegnet sie uns
  im Alltag – und was bedeutet das für Sie? Diese Veranstaltung bietet e
 inen einfachen und verständlichen Einstieg\, ganz ohne Vorkenntnisse.\\r\
 \nInhalte auf einen Blick\\r\\nKI-Funktionsweise verstehenChancen und Risi
 ken bewertenEinsatzmöglichkeiten entdeckenBeispiele aus der Praxis kennen
 lernen\\r\\nFür wenSenior*innen\, ohne Vorkenntnisse\\r\\nWeitere Details
 online\, kostenlos\, keine vorgängige Anmeldung nötig\\r\\nEinfach einlo
 ggen und mitmachen! \\r\\nUnter diesem Link [https://unibas.zoom.us/s/688
 29623303] können Sie an unserem Webinar teilnehmen. Wir freuen uns auf Si
 e!\\r\\nWeitere Durchführungen\\r\\nDieser Kurs wird auch vor Ort am 9. J
 uni 2026 durchgeführt: Informationen & Anmeldung [t3://record?identifier=
 events&uid=1376].\\r\\nBeachten Sie auch unsere Veranstaltung “Künstlic
 he Intelligenz im Berufsalltag – einfach erklärt”. Nähere Infos dazu
  unter diesem Link. [t3://record?identifier=events&uid=1377]
X-ALT-DESC:<p>Was steckt hinter Künstlicher Intelligenz? Wo begegnet sie u
 ns im Alltag – und was bedeutet das für Sie? Diese Veranstaltung bietet
  einen einfachen und verständlichen Einstieg\, ganz ohne Vorkenntnisse.</
 p>\n<p><strong>Inhalte auf einen Blick</strong></p>\n<ul><li>KI-Funktionsw
 eise verstehen</li><li>Chancen und Risiken bewerten</li><li>Einsatzmöglic
 hkeiten entdecken</li><li>Beispiele aus der Praxis kennenlernen</li></ul>\
 n<p><strong>Für wen</strong><br />Senior*innen\, ohne Vorkenntnisse</p>\n
 <p><strong>Weitere Details</strong><br />online\, kostenlos\, keine vorgä
 ngige Anmeldung nötig</p>\n<h4>Einfach einloggen und mitmachen!&nbsp\;</h
 4>\n<p>Unter <a href="https://unibas.zoom.us/s/68829623303">diesem Link</a
 > können Sie an unserem Webinar teilnehmen. Wir freuen uns auf Sie!</p>\n
 <h6>Weitere Durchführungen</h6>\n<p>Dieser Kurs wird auch vor Ort am 9. J
 uni 2026 durchgeführt: <a href="t3://record?identifier=events&amp\;uid=13
 76">Informationen &amp\; Anmeldung</a>.</p>\n<p>Beachten Sie auch unsere V
 eranstaltung “<strong>Künstliche Intelligenz im Berufsalltag – einfac
 h erklärt”</strong>. Nähere Infos dazu unter <a href="t3://record?iden
 tifier=events&amp\;uid=1377">diesem Link.</a></p>
DTEND;TZID=Europe/Zurich:20260608T183000
END:VEVENT
END:VCALENDAR
